BEGIN:VCALENDAR
VERSION:2.0
PRODID:-//eventon.com NONSGML v1.0//EN
CALSCALE:GREGORIAN
METHOD:PUBLISH
BEGIN:VEVENT
UID:69eab87d2fb0e
DTSTAMP:20260424T002533Z
DTSTART:20261010T130000Z
DTEND:20261010T190000Z
LOCATION:
SUMMARY:WEST HARTFORD\,  CONNECTICUT: The Watchmen Encounter 2026
DESCRIPTION:**** REGISTER NOW  **** &nbsp; Date: Saturday\,  October 10\, 
  2026 10 AM to 4 PM (Doors open at 9:30 AM) &nbsp; Location: 50 South Main 
 Street West Hartford\,  CT 06107 &nbsp; Join us on October 10th at 10:00 AM
  for a powerful day of worship\,  testimony\,  and spiritual equipping. Thi
 s[..]\nhttps://johnramirez.org/events/west-hartford-connecticut-the-watchme
 n-encounter-2026/
URL:https://johnramirez.org/events/west-hartford-connecticut-the-watchmen-encounter-2026/
END:VEVENT
END:VCALENDAR