BEGIN:VCALENDAR
VERSION:2.0
PRODID:-//eventon.com NONSGML v1.0//EN
CALSCALE:GREGORIAN
METHOD:PUBLISH
BEGIN:VEVENT
UID:69eacc83c06e4
DTSTAMP:20260424T015059Z
DTSTART:20261031T140000Z
DTEND:20261102T030000Z
LOCATION:
SUMMARY:COLUMBUS\,  OHIO: Immortal Kombat Conference 2026
DESCRIPTION:Date: Saturday\,  October 31\,  2026 Begins: 9 AM &nbsp; &nbsp;
  Location: Greater Columbus Convention Center Battelle Ballroom 400 N High 
 Street Columbus\,  OH 43215 &nbsp; &nbsp; For more information: Alecia Russ
 ell: 614-349-8955 Email - thegiftoftheholyspirit@gmail.com &nbsp; We’re b
 ack for our annual Immortal Kombat Conference featuring Ex-Satanist\,  Evan
 gelist John Ramirez!  [..]\nhttps://johnramirez.org/events/immortal-kombat
 -conference-2026/
URL:https://johnramirez.org/events/immortal-kombat-conference-2026/
END:VEVENT
END:VCALENDAR