BEGIN:VCALENDAR
VERSION:2.0
PRODID:-//eventon.com NONSGML v1.0//EN
CALSCALE:GREGORIAN
METHOD:PUBLISH
BEGIN:VEVENT
UID:69eab902d24bc
DTSTAMP:20260424T002746Z
DTSTART:20260815T200000Z
DTEND:20260817T000000Z
LOCATION:
SUMMARY:GLENDALE\,  CALIFORNIA: Breaking Free from the Demonic Strongholds and Bondages
DESCRIPTION:Date: Saturday\,  August 15\,  2026 1 PM to 5 PM PST Sunday\,  
 August 16\,  2026 1 PM to 5 PM PST &nbsp; Location: Armen Ministry 735 E Le
 xington Drive Glendale\,  CA 91206 &nbsp; ********* REGISTER SOON *********
 ** &nbsp; Take back what the enemy has stolen! This is spiritual warfare tr
 aining[..]\nhttps://johnramirez.org/events/breaking-free-from-the-demonic-s
 trongholds-and-bondages/
URL:https://johnramirez.org/events/breaking-free-from-the-demonic-strongholds-and-bondages/
END:VEVENT
END:VCALENDAR