BEGIN:VCALENDAR
VERSION:2.0
PRODID:-//eventon.com NONSGML v1.0//EN
CALSCALE:GREGORIAN
METHOD:PUBLISH
BEGIN:VEVENT
UID:69eab8d46f9b2
DTSTAMP:20260424T002700Z
DTSTART:20260516T200000Z
DTEND:20260518T000000Z
LOCATION:
SUMMARY:GLENDALE\,  CALIFORNIA: Taking Back What the Enemy Has Stolen From Me
DESCRIPTION:Date: Saturday\,  May 16\,  2026 11 AM to 4:30 PM PST Sunday\, 
  May 17\,  2026 1 PM to 4:30 PM PST &nbsp; Location: Armen Ministry 735 E L
 exington Drive Glendale\,  CA 91206 &nbsp; ********* REGISTER NOW *********
 ** &nbsp; Take back what the enemy has stolen! This is spiritual warfare tr
 aining[..]\nhttps://johnramirez.org/events/taking-back-what-the-enemy-has-s
 tolen-from-me/
URL:https://johnramirez.org/events/taking-back-what-the-enemy-has-stolen-from-me/
END:VEVENT
END:VCALENDAR