BEGIN:VCALENDAR
VERSION:2.0
PRODID:-//eventon.com NONSGML v1.0//EN
CALSCALE:GREGORIAN
METHOD:PUBLISH
BEGIN:VEVENT
UID:69e4eb4b8b884
DTSTAMP:20260419T144843Z
DTSTART:20250710T200000Z
DTEND:20250711T220000Z
LOCATION:
SUMMARY:Church Event at Keystone Center
DESCRIPTION:Thursday\,  July 10\,  2025 Friday\,  July 11\,  2025 Doors ope
 n at 3 PM Service starts at 5 PM &nbsp; LOCATION: Keystone Center 1175 18th
  Street\,  Unit 1 Brandon\,  MB R7A 7E3 &nbsp; No registration. Free Event.
  Show up and hear the glory of God's Word through Evangelist John Ramirez. 
 ALL[..]\nhttps://johnramirez.org/events/church-event-at-keystone-center/
URL:https://johnramirez.org/events/church-event-at-keystone-center/
END:VEVENT
END:VCALENDAR