BEGIN:VCALENDAR
VERSION:2.0
PRODID:-//eventon.com NONSGML v1.0//EN
CALSCALE:GREGORIAN
METHOD:PUBLISH
BEGIN:VEVENT
UID:69ea9e6d408b9
DTSTAMP:20260423T223421Z
DTSTART:20250607T020000Z
DTEND:20250607T170000Z
LOCATION:
SUMMARY:Destroying the Works of Darkness and Walking in True Freedom in Jesus Christ
DESCRIPTION:****** CHANGE OF DATE FOR THIS EVENT *********** &nbsp; Date: F
 riday\,  June 6\,  2025 @ 7 PM &nbsp; Saturday\,  June 7\,  2025 @ 10 AM &n
 bsp; Location: River of Life Church 410 E. Chapman Road Lutz\,  Florida 335
 49 &nbsp; Blessings my Brothers and Sisters\,  Love you much. I’m invitin
 g you[..]\nhttps://johnramirez.org/events/destroying-the-works-of-darkness-
 and-walking-in-true-freedom-in-jesus-christ/
URL:https://johnramirez.org/events/destroying-the-works-of-darkness-and-walking-in-true-freedom-in-jesus-christ/
END:VEVENT
END:VCALENDAR